BEGIN:VCALENDAR
VERSION:2.0
PRODID:icalendar-ruby
CALSCALE:GREGORIAN
METHOD:PUBLISH
BEGIN:VEVENT
DTSTAMP:20260424T205311Z
UID:5-441896@southsidegb.com
DTSTART:20261101T153000Z
DTEND:20261101T163000Z
CLASS:PUBLIC
CREATED:20260424T142723
DESCRIPTION:Sunday Worship
LAST-MODIFIED:20260424T142723
LOCATION:
SUMMARY:Sunday Worship
URL;VALUE=URI:https://southsidegb.com/events/sunday-worship/2026-11-01
END:VEVENT
END:VCALENDAR
