BEGIN:VCALENDAR
VERSION:2.0
PRODID:icalendar-ruby
CALSCALE:GREGORIAN
METHOD:PUBLISH
BEGIN:VEVENT
DTSTAMP:20260424T193938Z
UID:5-441895@southsidegb.com
DTSTART:20261025T143000Z
DTEND:20261025T153000Z
CLASS:PUBLIC
CREATED:20260424T142723
DESCRIPTION:Sunday Worship
LAST-MODIFIED:20260424T142723
LOCATION:
SUMMARY:Sunday Worship
URL;VALUE=URI:https://southsidegb.com/events/sunday-worship/2026-10-25
END:VEVENT
END:VCALENDAR
