BEGIN:VCALENDAR
VERSION:2.0
PRODID:icalendar-ruby
CALSCALE:GREGORIAN
METHOD:PUBLISH
BEGIN:VEVENT
DTSTAMP:20260424T181557Z
UID:5-441579@southsidegb.com
DTSTART:20261018T143000Z
DTEND:20261018T153000Z
CLASS:PUBLIC
CREATED:20260424T114154
DESCRIPTION:Sunday Worship
LAST-MODIFIED:20260424T114154
LOCATION:
SUMMARY:Sunday Worship
URL;VALUE=URI:https://southsidegb.com/events/sunday-worship/2026-10-18
END:VEVENT
END:VCALENDAR
