BEGIN:VCALENDAR
VERSION:2.0
PRODID:icalendar-ruby
CALSCALE:GREGORIAN
METHOD:PUBLISH
BEGIN:VEVENT
DTSTAMP:20260424T152301Z
UID:5-441262@southsidegb.com
DTSTART:20261004T143000Z
DTEND:20261004T153000Z
CLASS:PUBLIC
CREATED:20260424T084914
DESCRIPTION:Sunday Worship
LAST-MODIFIED:20260424T084914
LOCATION:
SUMMARY:Sunday Worship
URL;VALUE=URI:https://southsidegb.com/events/sunday-worship/2026-10-04
END:VEVENT
END:VCALENDAR
