BEGIN:VCALENDAR
VERSION:2.0
PRODID:icalendar-ruby
CALSCALE:GREGORIAN
METHOD:PUBLISH
BEGIN:VEVENT
DTSTAMP:20260425T010625Z
UID:14-442580@southsidegb.com
DTSTART:20261104T000000Z
DTEND:20261104T010000Z
CLASS:PUBLIC
CREATED:20260424T200300
DESCRIPTION:Join us every Tuesday Evening as we practice for the upcoming S
 unday music.
LAST-MODIFIED:20260424T200300
LOCATION:Church Sanctuary
SUMMARY:Choir
URL;VALUE=URI:https://southsidegb.com/events/choir/2026-11-03
ATTACH;FILENAME=music_av-04.jpg;FMTTYPE=image/jpeg:https://dq5pwpg1q8ru0.cl
 oudfront.net/2025/10/08/15/12/33/17c1a6c6-b6f2-4e08-9543-200379f56b80/musi
 c_av-04.jpg
END:VEVENT
END:VCALENDAR
